BEGIN:VCALENDAR
VERSION:2.0
PRODID:-//eventon.com NONSGML v1.0//EN
CALSCALE:GREGORIAN
METHOD:PUBLISH
BEGIN:VEVENT
UID:69ed3c1eec33c
DTSTAMP:20260425T221142Z
DTSTART:20240324T180000Z
DTEND:20240428T180000Z
LOCATION:
SUMMARY:Programa Formativo . Neurodidáctica/Neuroeducación: Funciones Ejecutivas y Habilidades socioemocionales. "Maestro Embajador Aprende Más" 4ta Cohorte
DESCRIPTION:Inscripción: Reserva Tu CUPO: Aquí el Link al: Formulario Ins
 cripción CUPOS Limitados Aprende Más\,  con el propósito de fortalecer l
 as competencias psicoeducativas en el aula y como parte de de su Programa P
 sicoeducativo para maestros lanza este Programa para "Maestros Embajadores 
 Aprende Más" con el fin de dotarlos\,  por un[..]\nhttps://institutoaprend
 emas.com/events/neurodidactica-maestro-embajador/
URL:https://institutoaprendemas.com/events/neurodidactica-maestro-embajador/
END:VEVENT
END:VCALENDAR